BEGIN:VCALENDAR
VERSION:2.0
PRODID:-//Battunga Country - ECPv4.5.9//NONSGML v1.0//EN
CALSCALE:GREGORIAN
METHOD:PUBLISH
X-WR-CALNAME:Battunga Country
X-ORIGINAL-URL:http://battunga.org.au
X-WR-CALDESC:Events for Battunga Country
BEGIN:VEVENT
DTSTART;VALUE=DATE:20190406
DTEND;VALUE=DATE:20190414
DTSTAMP:20190226T075435
CREATED:20190218T075241Z
LAST-MODIFIED:20190218T084102Z
UID:587-1554508800-1555286399@battunga.org.au
SUMMARY:Sculptors @ Crystal Lake Stone Sculpture Symposium 6-14 April 2019
DESCRIPTION:Amazing 9-Day interactive event for all the family \nSkilled Australian Sculptors carving tons of stone into magnificent        sculpture. http://crystallakepark.com.au/ \nCome and Try stone sculpture workshops for school groups during the week and weekend workshops for anyone over 12 years . http://crystallakepark.com.au/get-involved/stone-workshops/ \nGeological exhibit on the stone used in the sculptures. \nActivity Trail\, participate and go in the draw for a chance to win a family pass on the cockle train. \nArt and Sculpture Gallery \nFamily Day Saturday 13 April with Children&#8217;s creative activitie  http://crystallakepark.com.au/get-involved/childrens-program \nMelba&#8217;s chocolate sculpting display 3 pm on the family day \n10am -4pm Entry a gold coin donation \n
URL:http://battunga.org.au/event/sculptors-crystal-lake-stone-sculpture-symposium-6-14-april-2019/
LOCATION:Devereux Street\, Macclesfield\, SA\, 5153\, Australia
ATTACH;FMTTYPE=image/jpeg:http://battunga.org.au/wp-content/uploads/2019/02/Jim-7-1.jpg
END:VEVENT
END:VCALENDAR